


BEGIN:VCALENDAR
VERSION:2.0
PRODID: -//lcb.nu//NONSGML ical.net 2.1//EN
BEGIN:VEVENT
DTEND:20210610T160000
DTSTAMP:20210610T100000
DTSTART:20210610T100000
SEQUENCE: 0
SUMMARY:WORKSHOP: Smart Contracts voor supply chain
X-ALT-DESC;FMTTYPE=text/html:WORKSHOP: Smart Contracts voor supply chain
UID: 486d6306-45d7-4713-83c2-37aeb9040f6a
END:VEVENT
END:VCALENDAR




